BEGIN:VCALENDAR
VERSION:2.0
PRODID:-//Lexington Makerspace - ECPv6.13.2.1//NONSGML v1.0//EN
CALSCALE:GREGORIAN
METHOD:PUBLISH
X-ORIGINAL-URL:https://www.lexmake.org
X-WR-CALDESC:Events for Lexington Makerspace
REFRESH-INTERVAL;VALUE=DURATION:PT1H
X-Robots-Tag:noindex
X-PUBLISHED-TTL:PT1H
BEGIN:VTIMEZONE
TZID:-05:00
END:VTIMEZONE
BEGIN:VEVENT
DTSTART;TZID=-05:00:20260227T180000
DTEND;TZID=-05:00:20260227T200000
DTSTAMP:20260421T091118
CREATED:20260210T160502Z
LAST-MODIFIED:20260228T020850Z
UID:6795-1772215200-1772222400@www.lexmake.org
SUMMARY:Pen Turning Date Night!!!
DESCRIPTION:### Pen Turning Date Night – Woodturning at Lexington Makerspace \nLooking for a unique and hands-on date night in Lexington\, Kentucky? Join us at **Lexington Makerspace** for a fun and creative **Pen Turning Class**\, where couples can explore the art of woodturning and leave with a beautiful\, functional keepsake.\nIn this beginner-friendly woodworking class\, you’ll learn the fundamentals of **wood turning on a lathe**\, including tool safety\, shaping techniques\, and finishing techniques used by artisans. Each participant will create a **custom handcrafted pen made from rare and exotic wood**\, making every piece truly one of a kind.\nNo prior woodworking experience is required—just bring your curiosity and enjoy a relaxed\, creative atmosphere designed for couples\, creatives\, and members of the local art community.\n**Class Details** \n* 💲 **Cost:** $60 per person\n* 📍 **Location:** [Lexington Makerspace – Lexington\, KY](https://maps.app.goo.gl/v2PhHRq7ikvnkoJf7)\n* 🕕 **When:** Every **Friday & Saturday at 6:00 PM**\n* 📅 **Dates:** Weekly through the **end of February**\n* 💑 **Perfect for:** Couples\, date nights\, and creative partners\n* 🪵 **Includes:** All tools\, materials\, instruction\, and your finished pen \n✨ *You can explore all of our classes\, workshops\, and creative events at* **[https://www.lexmake.org](https://www.lexmake.org)**\nWhether you’re planning a memorable date night or looking to connect with Lexington’s creative community\, this class offers a hands-on experience and a handcrafted pen you’ll treasure.
URL:https://www.lexmake.org/event/pen-turning-date-night-5/
LOCATION:Lexington Makerspace\, 510 henry clay blvd\,\, lexington\, KY\, 40505\, United States
CATEGORIES:Classes
ATTACH;FMTTYPE=image/jpeg:https://www.lexmake.org/wp-content/uploads/2026/02/1024x576-M6dwik.jpg
END:VEVENT
END:VCALENDAR