BEGIN:VCALENDAR
VERSION:2.0
PRODID:-//Lexington Makerspace - ECPv6.13.2.1//NONSGML v1.0//EN
CALSCALE:GREGORIAN
METHOD:PUBLISH
X-ORIGINAL-URL:https://www.lexmake.org
X-WR-CALDESC:Events for Lexington Makerspace
REFRESH-INTERVAL;VALUE=DURATION:PT1H
X-Robots-Tag:noindex
X-PUBLISHED-TTL:PT1H
BEGIN:VTIMEZONE
TZID:-05:00
END:VTIMEZONE
BEGIN:VEVENT
DTSTART;TZID=-05:00:20260214T150000
DTEND;TZID=-05:00:20260214T170000
DTSTAMP:20260421T053445
CREATED:20260210T160458Z
LAST-MODIFIED:20260214T224016Z
UID:6790-1771081200-1771088400@www.lexmake.org
SUMMARY:Valentines Day Cheese Slicer and Wine Class
DESCRIPTION:## ❤️ Valentine’s Day Woodworking Date Night: Make a Custom Cheese Slicer \n**Hosted by Lexington Makerspace | Lexington\, KY**\nLooking for a **unique Valentine’s Day date night in Lexington\, Kentucky**? Skip the crowded restaurants and join us at **Lexington Makerspace** for a hands-on\, creative woodworking experience you’ll remember—and use—for years to come.\nIn this special **Valentine’s Day woodworking class**\, couples will learn the **basics of woodworking** while crafting a **beautiful custom cheese slicer** to add to your kitchen. This beginner-friendly class is designed for those new to woodworking and members of the local art and maker community alike.\nYou’ll be guided step-by-step through tool safety\, material selection\, shaping\, and finishing techniques\, all in a relaxed and welcoming makerspace environment. No experience needed—just bring your date and your curiosity! \n### 🧀 What You’ll Make \nEach participant will create a **functional\, handcrafted cheese slicer**\, perfect for entertaining\, charcuterie boards\, or everyday kitchen use. It’s a meaningful handmade project and a memorable Valentine’s keepsake. \n*** \n### 📅 Event Details \n* **Date:** **Valentine’s Day – February 14\, 2026**\n* **Time:** Evening class (perfect for date night!)\n* **Cost:** **$60 per person**\n* **Location:**\n👉 Lexington Makerspace – Lexington\, KY\n* **Website:**\n🌐 **[https://www.lexmake.org](https://www.lexmake.org)** (View all classes\, workshops\, and events) \n*** \n### 💕 Why You’ll Love This Class \n* One of the best **Valentine’s Day date ideas in Lexington KY**\n* Beginner-friendly **woodworking class for couples**\n* Hands-on creative experience in a real **makerspace**\n* Take home a **handmade kitchen tool**\n* Connect with the **Lexington art and maker community** \nSpots are limited to keep the class personal and hands-on\, so sign up early and make this Valentine’s Day something truly special.
URL:https://www.lexmake.org/event/valentines-day-cheese-slicer-and-wine-class/
LOCATION:Lexington Makerspace\, 510 henry clay blvd\,\, lexington\, KY\, 40505\, United States
CATEGORIES:Classes
ATTACH;FMTTYPE=image/jpeg:https://www.lexmake.org/wp-content/uploads/2026/02/1024x576-68jY22.jpg
END:VEVENT
BEGIN:VEVENT
DTSTART;TZID=-05:00:20260214T180000
DTEND;TZID=-05:00:20260214T200000
DTSTAMP:20260421T053445
CREATED:20260210T160500Z
LAST-MODIFIED:20260215T025159Z
UID:6792-1771092000-1771099200@www.lexmake.org
SUMMARY:Pen Turning Date Night!!!
DESCRIPTION:### Pen Turning Date Night – Woodturning at Lexington Makerspace \nLooking for a unique and hands-on date night in Lexington\, Kentucky? Join us at **Lexington Makerspace** for a fun and creative **Pen Turning Class**\, where couples can explore the art of woodturning and leave with a beautiful\, functional keepsake.\nIn this beginner-friendly woodworking class\, you’ll learn the fundamentals of **wood turning on a lathe**\, including tool safety\, shaping techniques\, and finishing techniques used by artisans. Each participant will create a **custom handcrafted pen made from rare and exotic wood**\, making every piece truly one of a kind.\nNo prior woodworking experience is required—just bring your curiosity and enjoy a relaxed\, creative atmosphere designed for couples\, creatives\, and members of the local art community.\n**Class Details** \n* 💲 **Cost:** $60 per person\n* 📍 **Location:** [Lexington Makerspace – Lexington\, KY](https://maps.app.goo.gl/v2PhHRq7ikvnkoJf7)\n* 🕕 **When:** Every **Friday & Saturday at 6:00 PM**\n* 📅 **Dates:** Weekly through the **end of February**\n* 💑 **Perfect for:** Couples\, date nights\, and creative partners\n* 🪵 **Includes:** All tools\, materials\, instruction\, and your finished pen \n✨ *You can explore all of our classes\, workshops\, and creative events at* **[https://www.lexmake.org](https://www.lexmake.org)**\nWhether you’re planning a memorable date night or looking to connect with Lexington’s creative community\, this class offers a hands-on experience and a handcrafted pen you’ll treasure.
URL:https://www.lexmake.org/event/pen-turning-date-night-2/
LOCATION:Lexington Makerspace\, 510 henry clay blvd\,\, lexington\, KY\, 40505\, United States
CATEGORIES:Classes
ATTACH;FMTTYPE=image/jpeg:https://www.lexmake.org/wp-content/uploads/2026/02/1024x576-M6dwik.jpg
END:VEVENT
END:VCALENDAR